BEGIN:VCALENDAR
VERSION:2.0
PRODID:-//ChamberMaster//Event Calendar 2.0//EN
METHOD:PUBLISH
X-PUBLISHED-TTL:P1H
REFRESH-INTERVAL:P1H
CALSCALE:GREGORIAN
BEGIN:VTIMEZONE
TZID:America/New_York
BEGIN:DAYLIGHT
RRULE:FREQ=YEARLY;BYMONTH=3;BYDAY=2SU
DTSTART:20070101T000000
TZOFFSETFROM:-0500
TZOFFSETTO:-0400
TZNAME:Eastern Daylight Time
END:DAYLIGHT
BEGIN:STANDARD
RRULE:FREQ=YEARLY;BYMONTH=11;BYDAY=1SU
DTSTART:20070101T000000
TZOFFSETFROM:-0400
TZOFFSETTO:-0500
TZNAME:Eastern Standard Time
END:STANDARD
END:VTIMEZONE
BEGIN:VEVENT
DTSTART;TZID=America/New_York:20260421T130000
DTEND;TZID=America/New_York:20260421T140000
X-MICROSOFT-CDO-ALLDAYEVENT:FALSE
SUMMARY:[WEBINAR] Electricity 101: The Power RFI
DESCRIPTION:Reliable and affordable electricity is a cornerstone of successful economic development. Join us for this practical\, easy-to-understand webinar designed to help economic development professionals better navigate key electric power concepts often addressed in project RFIs.This session will break down the fundamentals of the Power RFI while exploring how energy infrastructure\, capacity\, and reliability influence site selection and business attraction.Guiding the conversation will be Tammy Whaley\, Senior Economic Development Manager with Duke Energy\, who will bring real-world expertise and insights from working directly with communities and prospects on power-related considerations.Key topics include:Essential terminology and conceptsCommonly asked Power RFI questionsEvaluating project electric requirementsDistinguishing between small and large power usersEffective engagement with utility partnersIdeal for both new and experienced practitioners\, this webinar will give you the tools and confidence to navigate energy-related RFI questions and conversations.
X-ALT-DESC;FMTTYPE=text/html:<!DOCTYPE html><html><head><title></title></head><body aria-disabled="false"><p><span style="font-family: Arial\, Helvetica\, sans-serif\; font-size: 14px\;">Reliable and affordable electricity is a cornerstone of successful economic development. Join us for this practical\, easy-to-understand webinar designed to help economic development professionals better navigate key electric power concepts often addressed in project RFIs.</span></p><p><span style="font-size: 14px\;"><span style="font-family: Arial\,Helvetica\,sans-serif\;">This session will break down the fundamentals of the Power RFI while exploring how energy infrastructure\, capacity\, and reliability influence site selection and business attraction.</span></span></p><p><span style="font-size: 14px\;"><span style="font-family: Arial\,Helvetica\,sans-serif\;">Guiding the conversation will be <strong fr-original-style="" style="font-weight: 700\;">Tammy Whaley</strong>\, Senior Economic Development Manager with Duke Energy\, who will bring real-world expertise and insights from working directly with communities and prospects on power-related considerations.</span></span></p><p><span style="font-size: 14px\;"><span style="font-family: Arial\,Helvetica\,sans-serif\;">Key topics include:</span></span></p><ul fr-original-style="" style="list-style-position: inside\;"><li style="font-family: Arial\, Helvetica\, sans-serif\; font-size: 14px\;">Essential terminology and concepts</li><li style="font-family: Arial\, Helvetica\, sans-serif\; font-size: 14px\;">Commonly asked Power RFI questions</li><li style="font-family: Arial\, Helvetica\, sans-serif\; font-size: 14px\;">Evaluating project electric requirements</li><li style="font-family: Arial\, Helvetica\, sans-serif\; font-size: 14px\;">Distinguishing between small and large power users</li><li style="font-family: Arial\, Helvetica\, sans-serif\; font-size: 14px\;">Effective engagement with utility partners</li></ul><p><span style="font-family: Arial\, Helvetica\, sans-serif\; font-size: 14px\;">Ideal for both new and experienced practitioners\, this webinar will give you the tools and confidence to navigate energy-related RFI questions and conversations.</span></p></body></html>
LOCATION:
UID:e.727.1444093
SEQUENCE:3
DTSTAMP:20260420T084654Z
URL:https://business.nceda.org/maincalendar/Details/webinar-electricity-101-the-power-rfi-1710404?sourceTypeId=Hub
END:VEVENT
END:VCALENDAR
